BEGIN:VCALENDAR
VERSION:2.0
PRODID:-// - ECPv6.15.16//NONSGML v1.0//EN
CALSCALE:GREGORIAN
METHOD:PUBLISH
X-ORIGINAL-URL:https://konkantrip.com
X-WR-CALDESC:Events for 
REFRESH-INTERVAL;VALUE=DURATION:PT1H
X-Robots-Tag:noindex
X-PUBLISHED-TTL:PT1H
BEGIN:VTIMEZONE
TZID:Asia/Kolkata
BEGIN:STANDARD
TZOFFSETFROM:+0530
TZOFFSETTO:+0530
TZNAME:IST
DTSTART:20250101T000000
END:STANDARD
END:VTIMEZONE
BEGIN:VEVENT
DTSTART;TZID=Asia/Kolkata:20260314T060000
DTEND;TZID=Asia/Kolkata:20260315T200000
DTSTAMP:20260424T231128
CREATED:20260224T061305Z
LAST-MODIFIED:20260227T085518Z
UID:1979-1773468000-1773604800@konkantrip.com
SUMMARY:Turtle Festival
DESCRIPTION:  \n🐢 Anjarle Turtle Festival – A Celebration of Nature in Konkan\n \nExperience the magical Anjarle Turtle Festival in Konkan\, where endangered Olive Ridley turtle hatchlings begin their journey to the Arabian Sea. Enjoy eco-tourism\, homestays\, and authentic Konkani culture. \n \nThe Anjarle Turtle Festival is a unique eco-tourism event held every year in the peaceful coastal village of Anjarle in the Ratnagiri district of Maharashtra. This festival is dedicated to the conservation of endangered Olive Ridley sea turtles and promotes responsible tourism and community participation. \nThe festival usually takes place between February and April\, during the turtle hatching season. Visitors get a rare opportunity to witness newly hatched turtle babies emerging from their nests and moving towards the sea. These sessions are conducted in the early morning and evening under the supervision of trained volunteers to ensure the safety of the turtles. \nApart from turtle watching\, the festival offers a complete Konkan village experience. Visitors can stay in local homestays\, enjoy traditional Malvani and Konkani cuisine\, explore clean and scenic beaches\, and experience the warm hospitality of the local community. \nThe Anjarle Turtle Festival is more than just a tourist attraction. It is a conservation movement that supports wildlife protection while creating sustainable livelihood opportunities for local villagers. \nBelow are the Package Details. \n\n\n\n\n	Cost Per Person (Min. 2)Rs. 2000 WeekDays\n\nRs. 3000 Weekends\n\n\n	Family Package (Min. 4) (Cost Per Person)Rs. 2000 WeekDays\n\nRs. 2500 Weekends\n\n\n	MealsVeg/Non Veg\n\n\n	Pune To DapoliExtra Charges\n\n\n	Mumbai To MumbaiExtra Charges\n\n\n\n \nPlease fill the form given below. Our team will contact you shortly. \nPlease enable JavaScript in your browser to complete this form.Name *Email *Contact No. *		\n			Package Name Location\n			\n		\n		Package *--- Select Choice ---EconomyDeluxeLuxuryPickup Location *--- Select Choice ---PuneDapoliNumber Of People\n\n\n\n	Selected Value: 1\nSubmit
URL:https://konkantrip.com/event/turtle-festival/
LOCATION:Konkan Trip’s Beach Resort\, 128/3 \,Harnai-Palande Road \, Opposite to Hotel Sahil Inn\, Palande Beach\, Dapoli\, Maharashtra 415713\, Dapoli\, Maha\, India
ATTACH;FMTTYPE=image/jpeg:https://konkantrip.com/wp-content/uploads/2026/02/WhatsApp-Image-2026-02-24-at-11.31.45-AM-1.jpeg
END:VEVENT
END:VCALENDAR